BEGIN:VCALENDAR
VERSION:2.0
PRODID:-//LOST IN LEEDS - ECPv6.15.20//NONSGML v1.0//EN
CALSCALE:GREGORIAN
METHOD:PUBLISH
X-WR-CALNAME:LOST IN LEEDS
X-ORIGINAL-URL:https://lostinleeds.com
X-WR-CALDESC:Events for LOST IN LEEDS
REFRESH-INTERVAL;VALUE=DURATION:PT1H
X-Robots-Tag:noindex
X-PUBLISHED-TTL:PT1H
BEGIN:VTIMEZONE
TZID:Europe/London
BEGIN:DAYLIGHT
TZOFFSETFROM:+0000
TZOFFSETTO:+0100
TZNAME:BST
DTSTART:20240331T010000
END:DAYLIGHT
BEGIN:STANDARD
TZOFFSETFROM:+0100
TZOFFSETTO:+0000
TZNAME:GMT
DTSTART:20241027T010000
END:STANDARD
BEGIN:DAYLIGHT
TZOFFSETFROM:+0000
TZOFFSETTO:+0100
TZNAME:BST
DTSTART:20250330T010000
END:DAYLIGHT
BEGIN:STANDARD
TZOFFSETFROM:+0100
TZOFFSETTO:+0000
TZNAME:GMT
DTSTART:20251026T010000
END:STANDARD
BEGIN:DAYLIGHT
TZOFFSETFROM:+0000
TZOFFSETTO:+0100
TZNAME:BST
DTSTART:20260329T010000
END:DAYLIGHT
BEGIN:STANDARD
TZOFFSETFROM:+0100
TZOFFSETTO:+0000
TZNAME:GMT
DTSTART:20261025T010000
END:STANDARD
END:VTIMEZONE
BEGIN:VEVENT
DTSTART;TZID=Europe/London:20250523T220000
DTEND;TZID=Europe/London:20250523T050000
DTSTAMP:20260421T125748
CREATED:20250514T172811Z
LAST-MODIFIED:20250523T223451Z
UID:89-1748037600-1747976400@lostinleeds.com
SUMMARY:Lost in Leeds
DESCRIPTION:🇬🇧 LOST IN LEEDS 🇬🇧\nWith DJ MALVADOAutor do Hit Mussulo🗓 23rd/May/Friday 🗓🕙 10pm-5am 🕔🎉 B-DAY DJVIP 🎉📍 BEILUL BAR & CAFE 📍DRESSCODE – ALL WHITENO ID – NO ENTRY \n\n\n\n\n\n\n\n\n\n\n\n\n\n\n\n\n\n\n\n\n\n\n\n\n\n\n\n\n\n\n\n	\n		\n\n			\n			\n\n							\n					\n						QR Code
URL:https://lostinleeds.com/event/djmalvado/
LOCATION:BEILUL BAR & CAFE\, 1 PILOT STREET - UNIT 1\, LEEDS\, LS9 7NF\, United Kingdom
ATTACH;FMTTYPE=image/jpeg:https://lostinleeds.com/wp-content/uploads/2025/05/IMG-20250513-WA0000.jpg
END:VEVENT
END:VCALENDAR